BEGIN:VCALENDAR
VERSION:2.0
PRODID:-//NTU CEE Alumni - ECPv6.15.20//NONSGML v1.0//EN
CALSCALE:GREGORIAN
METHOD:PUBLISH
X-ORIGINAL-URL:https://www.nceea.org
X-WR-CALDESC:Events for NTU CEE Alumni
REFRESH-INTERVAL;VALUE=DURATION:PT1H
X-Robots-Tag:noindex
X-PUBLISHED-TTL:PT1H
BEGIN:VTIMEZONE
TZID:Asia/Shanghai
BEGIN:STANDARD
TZOFFSETFROM:+0800
TZOFFSETTO:+0800
TZNAME:CST
DTSTART:20160101T000000
END:STANDARD
END:VTIMEZONE
BEGIN:VEVENT
DTSTART;TZID=Asia/Shanghai:20180228T190000
DTEND;TZID=Asia/Shanghai:20180228T210000
DTSTAMP:20260424T015407
CREATED:20180212T041657Z
LAST-MODIFIED:20180212T041657Z
UID:3866-1519844400-1519851600@www.nceea.org
SUMMARY:Evening Talk - Future Economy & Continuing Education Opportunities for Engineers cum AGM
DESCRIPTION:
URL:https://www.nceea.org/event/evening-talk-future-economy-continuing-education-opportunities-for-engineers-cum-agm/
LOCATION:Queens Peak Condominium Show Flat\, 10 Dundee Road\, Singapore\, 149455\, Singapore
CATEGORIES:Others
END:VEVENT
BEGIN:VEVENT
DTSTART;TZID=Asia/Shanghai:20170223T183000
DTEND;TZID=Asia/Shanghai:20170223T210000
DTSTAMP:20260424T015407
CREATED:20161224T001311Z
LAST-MODIFIED:20170201T062813Z
UID:3701-1487874600-1487883600@www.nceea.org
SUMMARY:An Evening of Talk and Networking
DESCRIPTION:
URL:https://www.nceea.org/event/annual-general-meeting-2017/
LOCATION:Queens Peak Condominium Show Flat\, 10 Dundee Road\, Singapore\, 149455\, Singapore
CATEGORIES:Others
END:VEVENT
END:VCALENDAR