BEGIN:VCALENDAR
VERSION:2.0
PRODID:-//NTU CEE Alumni - ECPv6.15.20//NONSGML v1.0//EN
CALSCALE:GREGORIAN
METHOD:PUBLISH
X-WR-CALNAME:NTU CEE Alumni
X-ORIGINAL-URL:https://www.nceea.org
X-WR-CALDESC:Events for NTU CEE Alumni
REFRESH-INTERVAL;VALUE=DURATION:PT1H
X-Robots-Tag:noindex
X-PUBLISHED-TTL:PT1H
BEGIN:VTIMEZONE
TZID:Asia/Shanghai
BEGIN:STANDARD
TZOFFSETFROM:+0800
TZOFFSETTO:+0800
TZNAME:CST
DTSTART:20190101T000000
END:STANDARD
END:VTIMEZONE
BEGIN:VEVENT
DTSTART;TZID=Asia/Shanghai:20200528T183000
DTEND;TZID=Asia/Shanghai:20200528T193000
DTSTAMP:20260424T022635
CREATED:20200518T020942Z
LAST-MODIFIED:20200518T022155Z
UID:4014-1590690600-1590694200@www.nceea.org
SUMMARY:NCEEA 23TH AGM
DESCRIPTION:
URL:https://www.nceea.org/event/nceea-23th-agm/
CATEGORIES:AGM
END:VEVENT
END:VCALENDAR